BEGIN:VCALENDAR
VERSION:2.0
PRODID:-//Metroparques - ECPv6.15.11//NONSGML v1.0//EN
CALSCALE:GREGORIAN
METHOD:PUBLISH
X-WR-CALNAME:Metroparques
X-ORIGINAL-URL:https://metroparques.gov.co
X-WR-CALDESC:Eventos para Metroparques
REFRESH-INTERVAL;VALUE=DURATION:PT1H
X-Robots-Tag:noindex
X-PUBLISHED-TTL:PT1H
BEGIN:VTIMEZONE
TZID:America/Bogota
BEGIN:STANDARD
TZOFFSETFROM:-0500
TZOFFSETTO:-0500
TZNAME:-05
DTSTART:20220101T000000
END:STANDARD
END:VTIMEZONE
BEGIN:VEVENT
DTSTART;VALUE=DATE:20230805
DTEND;VALUE=DATE:20230808
DTSTAMP:20260425T111758
CREATED:20230530T211359Z
LAST-MODIFIED:20230530T212434Z
UID:1923-1691193600-1691452799@metroparques.gov.co
SUMMARY:FONDAS DE MI TIERRA
DESCRIPTION:Boletería desde el 1 de junio en La Tiquetera
URL:https://metroparques.gov.co/evento/fondas-de-mi-tierra/
LOCATION:Aeroparque Juan Pablo II\, Carrera 70 # 16-04\, Medellin\, Antioquia\, 050024\, Colombia
CATEGORIES:Eventos Aeroparque
ATTACH;FMTTYPE=image/jpeg:https://metroparques.gov.co/wp-content/uploads/2023/05/Fondas-de-mi-tierra.jpg
END:VEVENT
BEGIN:VEVENT
DTSTART;VALUE=DATE:20230819
DTEND;VALUE=DATE:20230821
DTSTAMP:20260425T111758
CREATED:20230817T191629Z
LAST-MODIFIED:20230817T191629Z
UID:3148-1692403200-1692575999@metroparques.gov.co
SUMMARY:Gran Fondito Mariana Pajón
DESCRIPTION:Un evento de ciclismo pensado y creado para niños y niñas entre los 2 y los 14 años de edad. \nDebido a esta actividad el Parque Norte no prestará servicio al público los días 18\, 19 y 20 de agosto.
URL:https://metroparques.gov.co/evento/gran-fondito-mariana-pajon/
LOCATION:Parque Norte Medellín\, Cra. 53 #76-115\, Medellin\, Antioquia\, Colombia
CATEGORIES:Eventos Parque Norte
ATTACH;FMTTYPE=image/png:https://metroparques.gov.co/wp-content/uploads/2023/08/Gran-Fondito.png
ORGANIZER;CN="Mariana Paj%C3%B3n":MAILTO:info@granfondito.com
END:VEVENT
END:VCALENDAR