BEGIN:VCALENDAR
VERSION:2.0
PRODID:-//Metroparques - ECPv6.15.11//NONSGML v1.0//EN
CALSCALE:GREGORIAN
METHOD:PUBLISH
X-ORIGINAL-URL:https://metroparques.gov.co
X-WR-CALDESC:Eventos para Metroparques
REFRESH-INTERVAL;VALUE=DURATION:PT1H
X-Robots-Tag:noindex
X-PUBLISHED-TTL:PT1H
BEGIN:VTIMEZONE
TZID:America/Bogota
BEGIN:STANDARD
TZOFFSETFROM:-0500
TZOFFSETTO:-0500
TZNAME:-05
DTSTART:20250101T000000
END:STANDARD
END:VTIMEZONE
BEGIN:VEVENT
DTSTART;VALUE=DATE:20260209
DTEND;VALUE=DATE:20260226
DTSTAMP:20260423T144743
CREATED:20260129T191443Z
LAST-MODIFIED:20260129T193843Z
UID:4756-1770595200-1772063999@metroparques.gov.co
SUMMARY:Breakfas core
DESCRIPTION:Evento 20 y 21 exclusivo\, montaje no exclusivo desde el 09 hasta el 15 de febrero. \nMontaje exclusivo del 16 al 19 de febrero. \nDesmontaje exclusivo 22 y 23  de febrero y desmontaje no exclusivo 24 y 25  de febrero \n  \n 
URL:https://metroparques.gov.co/evento/breakfas-core/
CATEGORIES:Eventos Metroparques,Eventos Parque Norte
ATTACH;FMTTYPE=image/jpeg:https://metroparques.gov.co/wp-content/uploads/2024/07/IMG_7204-scaled.jpg
END:VEVENT
BEGIN:VEVENT
DTSTART;VALUE=DATE:20260304
DTEND;VALUE=DATE:20260305
DTSTAMP:20260423T144743
CREATED:20260129T190818Z
LAST-MODIFIED:20260310T162152Z
UID:4754-1772582400-1772668799@metroparques.gov.co
SUMMARY:Colegio Sagrado Corazon Montemayor
DESCRIPTION:Colegio Sagrado Corazón Montemayor- Ingreso 30 aproximada
URL:https://metroparques.gov.co/evento/colegio-sagrado-corazon-montemayor/
CATEGORIES:Eventos Metroparques,Eventos Parque Norte
ATTACH;FMTTYPE=image/jpeg:https://metroparques.gov.co/wp-content/uploads/2023/05/ParqueNorte-03.jpg
ORGANIZER;CN="Metroparques":MAILTO:contacto@metroparques.gov.co
END:VEVENT
BEGIN:VEVENT
DTSTART;VALUE=DATE:20260309
DTEND;VALUE=DATE:20260316
DTSTAMP:20260423T144743
CREATED:20260310T161906Z
LAST-MODIFIED:20260310T162115Z
UID:4891-1773014400-1773619199@metroparques.gov.co
SUMMARY:Vino al parque II - Parque Norte
DESCRIPTION:Evento Vino al parque II\, del 9 al 15 de marzo\, parque Norte
URL:https://metroparques.gov.co/evento/vino-al-parque-ii-parque-norte/
CATEGORIES:Eventos Metroparques,Eventos Parque Norte
ATTACH;FMTTYPE=image/jpeg:https://metroparques.gov.co/wp-content/uploads/2023/05/ParqueNorte-04.jpg
END:VEVENT
BEGIN:VEVENT
DTSTART;TZID=America/Bogota:20260310T080000
DTEND;TZID=America/Bogota:20260310T170000
DTSTAMP:20260423T144743
CREATED:20260310T161121Z
LAST-MODIFIED:20260310T161121Z
UID:4889-1773129600-1773162000@metroparques.gov.co
SUMMARY:Promotora Colombia-Mova ( 50%)
DESCRIPTION:1 – 6 de marzo de 2026
URL:https://metroparques.gov.co/evento/promotora-colombia-mova-50/
CATEGORIES:Eventos Metroparques,Eventos Parque Norte
ATTACH;FMTTYPE=image/jpeg:https://metroparques.gov.co/wp-content/uploads/2023/05/ParqueNorte-04.jpg
END:VEVENT
BEGIN:VEVENT
DTSTART;VALUE=DATE:20260321
DTEND;VALUE=DATE:20260322
DTSTAMP:20260423T144743
CREATED:20260310T162033Z
LAST-MODIFIED:20260310T162033Z
UID:4893-1774051200-1774137599@metroparques.gov.co
SUMMARY:SKORPION DISCO SHOW-EXCL. PLAZOLETA PPAL
DESCRIPTION:
URL:https://metroparques.gov.co/evento/skorpion-disco-show-excl-plazoleta-ppal/
CATEGORIES:Eventos Metroparques,Eventos Parque Norte
ATTACH;FMTTYPE=image/png:https://metroparques.gov.co/wp-content/uploads/2026/02/PRoveedores2.png
END:VEVENT
BEGIN:VEVENT
DTSTART;TZID=America/Bogota:20260325T080000
DTEND;TZID=America/Bogota:20260329T170000
DTSTAMP:20260423T144743
CREATED:20260310T162259Z
LAST-MODIFIED:20260310T162259Z
UID:4895-1774425600-1774803600@metroparques.gov.co
SUMMARY:BAUM-CONCIERTO
DESCRIPTION:
URL:https://metroparques.gov.co/evento/baum-concierto/
CATEGORIES:Eventos Metroparques,Eventos Parque Norte
ATTACH;FMTTYPE=image/png:https://metroparques.gov.co/wp-content/uploads/2026/02/PRoveedores2.png
END:VEVENT
END:VCALENDAR